BEGIN:VCALENDAR
VERSION:2.0
PRODID:-//Woodbury Foundation - ECPv6.15.17.1//NONSGML v1.0//EN
CALSCALE:GREGORIAN
METHOD:PUBLISH
X-ORIGINAL-URL:https://www.woodburyfoundation.org
X-WR-CALDESC:Events for Woodbury Foundation
REFRESH-INTERVAL;VALUE=DURATION:PT1H
X-Robots-Tag:noindex
X-PUBLISHED-TTL:PT1H
BEGIN:VTIMEZONE
TZID:America/Chicago
BEGIN:DAYLIGHT
TZOFFSETFROM:-0600
TZOFFSETTO:-0500
TZNAME:CDT
DTSTART:20260308T080000
END:DAYLIGHT
BEGIN:STANDARD
TZOFFSETFROM:-0500
TZOFFSETTO:-0600
TZNAME:CST
DTSTART:20261101T070000
END:STANDARD
BEGIN:DAYLIGHT
TZOFFSETFROM:-0600
TZOFFSETTO:-0500
TZNAME:CDT
DTSTART:20270314T080000
END:DAYLIGHT
BEGIN:STANDARD
TZOFFSETFROM:-0500
TZOFFSETTO:-0600
TZNAME:CST
DTSTART:20271107T070000
END:STANDARD
BEGIN:DAYLIGHT
TZOFFSETFROM:-0600
TZOFFSETTO:-0500
TZNAME:CDT
DTSTART:20280312T080000
END:DAYLIGHT
BEGIN:STANDARD
TZOFFSETFROM:-0500
TZOFFSETTO:-0600
TZNAME:CST
DTSTART:20281105T070000
END:STANDARD
BEGIN:DAYLIGHT
TZOFFSETFROM:-0600
TZOFFSETTO:-0500
TZNAME:CDT
DTSTART:20290311T080000
END:DAYLIGHT
BEGIN:STANDARD
TZOFFSETFROM:-0500
TZOFFSETTO:-0600
TZNAME:CST
DTSTART:20291104T070000
END:STANDARD
END:VTIMEZONE
BEGIN:VEVENT
DTSTART;TZID=America/Chicago:20270607T160000
DTEND;TZID=America/Chicago:20270607T170000
DTSTAMP:20260414T185332
CREATED:20250114T013020Z
LAST-MODIFIED:20250114T013020Z
UID:10000166-1812384000-1812387600@www.woodburyfoundation.org
SUMMARY:WCF Development Committee Meeting
DESCRIPTION:
URL:https://www.woodburyfoundation.org/event/wcf-development-committee-meeting/2027-06-07/
ATTACH;FMTTYPE=image/png:https://www.woodburyfoundation.org/wp-content/uploads/2025/01/COMMITTEE-MEETING.png
END:VEVENT
BEGIN:VEVENT
DTSTART;TZID=America/Chicago:20270608T130000
DTEND;TZID=America/Chicago:20270608T143000
DTSTAMP:20260414T185332
CREATED:20250114T012847Z
LAST-MODIFIED:20250114T012847Z
UID:10000106-1812459600-1812465000@www.woodburyfoundation.org
SUMMARY:WCF Finance & Audit Committee Meeting
DESCRIPTION:
URL:https://www.woodburyfoundation.org/event/wcf-finance-audit-committee-meeting/2027-06-08/
ATTACH;FMTTYPE=image/png:https://www.woodburyfoundation.org/wp-content/uploads/2025/01/COMMITTEE-MEETING.png
END:VEVENT
BEGIN:VEVENT
DTSTART;TZID=America/Chicago:20270628T160000
DTEND;TZID=America/Chicago:20270628T170000
DTSTAMP:20260414T185332
CREATED:20250114T013210Z
LAST-MODIFIED:20250114T013210Z
UID:10000226-1814198400-1814202000@www.woodburyfoundation.org
SUMMARY:WCF Marketing Committee
DESCRIPTION:
URL:https://www.woodburyfoundation.org/event/wcf-marketing-committee/2027-06-28/
ATTACH;FMTTYPE=image/png:https://www.woodburyfoundation.org/wp-content/uploads/2025/01/COMMITTEE-MEETING.png
END:VEVENT
BEGIN:VEVENT
DTSTART;TZID=America/Chicago:20270705T160000
DTEND;TZID=America/Chicago:20270705T170000
DTSTAMP:20260414T185332
CREATED:20250114T013020Z
LAST-MODIFIED:20250114T013020Z
UID:10000167-1814803200-1814806800@www.woodburyfoundation.org
SUMMARY:WCF Development Committee Meeting
DESCRIPTION:
URL:https://www.woodburyfoundation.org/event/wcf-development-committee-meeting/2027-07-05/
ATTACH;FMTTYPE=image/png:https://www.woodburyfoundation.org/wp-content/uploads/2025/01/COMMITTEE-MEETING.png
END:VEVENT
BEGIN:VEVENT
DTSTART;TZID=America/Chicago:20270713T130000
DTEND;TZID=America/Chicago:20270713T143000
DTSTAMP:20260414T185332
CREATED:20250114T012847Z
LAST-MODIFIED:20250114T012847Z
UID:10000107-1815483600-1815489000@www.woodburyfoundation.org
SUMMARY:WCF Finance & Audit Committee Meeting
DESCRIPTION:
URL:https://www.woodburyfoundation.org/event/wcf-finance-audit-committee-meeting/2027-07-13/
ATTACH;FMTTYPE=image/png:https://www.woodburyfoundation.org/wp-content/uploads/2025/01/COMMITTEE-MEETING.png
END:VEVENT
BEGIN:VEVENT
DTSTART;TZID=America/Chicago:20270726T160000
DTEND;TZID=America/Chicago:20270726T170000
DTSTAMP:20260414T185332
CREATED:20250114T013210Z
LAST-MODIFIED:20250114T013210Z
UID:10000227-1816617600-1816621200@www.woodburyfoundation.org
SUMMARY:WCF Marketing Committee
DESCRIPTION:
URL:https://www.woodburyfoundation.org/event/wcf-marketing-committee/2027-07-26/
ATTACH;FMTTYPE=image/png:https://www.woodburyfoundation.org/wp-content/uploads/2025/01/COMMITTEE-MEETING.png
END:VEVENT
BEGIN:VEVENT
DTSTART;TZID=America/Chicago:20270802T160000
DTEND;TZID=America/Chicago:20270802T170000
DTSTAMP:20260414T185332
CREATED:20250114T013020Z
LAST-MODIFIED:20250114T013020Z
UID:10000168-1817222400-1817226000@www.woodburyfoundation.org
SUMMARY:WCF Development Committee Meeting
DESCRIPTION:
URL:https://www.woodburyfoundation.org/event/wcf-development-committee-meeting/2027-08-02/
ATTACH;FMTTYPE=image/png:https://www.woodburyfoundation.org/wp-content/uploads/2025/01/COMMITTEE-MEETING.png
END:VEVENT
BEGIN:VEVENT
DTSTART;TZID=America/Chicago:20270810T130000
DTEND;TZID=America/Chicago:20270810T143000
DTSTAMP:20260414T185332
CREATED:20250114T012847Z
LAST-MODIFIED:20250114T012847Z
UID:10000108-1817902800-1817908200@www.woodburyfoundation.org
SUMMARY:WCF Finance & Audit Committee Meeting
DESCRIPTION:
URL:https://www.woodburyfoundation.org/event/wcf-finance-audit-committee-meeting/2027-08-10/
ATTACH;FMTTYPE=image/png:https://www.woodburyfoundation.org/wp-content/uploads/2025/01/COMMITTEE-MEETING.png
END:VEVENT
BEGIN:VEVENT
DTSTART;TZID=America/Chicago:20270823T160000
DTEND;TZID=America/Chicago:20270823T170000
DTSTAMP:20260414T185332
CREATED:20250114T013210Z
LAST-MODIFIED:20250114T013210Z
UID:10000228-1819036800-1819040400@www.woodburyfoundation.org
SUMMARY:WCF Marketing Committee
DESCRIPTION:
URL:https://www.woodburyfoundation.org/event/wcf-marketing-committee/2027-08-23/
ATTACH;FMTTYPE=image/png:https://www.woodburyfoundation.org/wp-content/uploads/2025/01/COMMITTEE-MEETING.png
END:VEVENT
BEGIN:VEVENT
DTSTART;TZID=America/Chicago:20270906T160000
DTEND;TZID=America/Chicago:20270906T170000
DTSTAMP:20260414T185332
CREATED:20250114T013020Z
LAST-MODIFIED:20250114T013020Z
UID:10000169-1820246400-1820250000@www.woodburyfoundation.org
SUMMARY:WCF Development Committee Meeting
DESCRIPTION:
URL:https://www.woodburyfoundation.org/event/wcf-development-committee-meeting/2027-09-06/
ATTACH;FMTTYPE=image/png:https://www.woodburyfoundation.org/wp-content/uploads/2025/01/COMMITTEE-MEETING.png
END:VEVENT
BEGIN:VEVENT
DTSTART;TZID=America/Chicago:20270914T130000
DTEND;TZID=America/Chicago:20270914T143000
DTSTAMP:20260414T185332
CREATED:20250114T012847Z
LAST-MODIFIED:20250114T012847Z
UID:10000109-1820926800-1820932200@www.woodburyfoundation.org
SUMMARY:WCF Finance & Audit Committee Meeting
DESCRIPTION:
URL:https://www.woodburyfoundation.org/event/wcf-finance-audit-committee-meeting/2027-09-14/
ATTACH;FMTTYPE=image/png:https://www.woodburyfoundation.org/wp-content/uploads/2025/01/COMMITTEE-MEETING.png
END:VEVENT
BEGIN:VEVENT
DTSTART;TZID=America/Chicago:20270927T160000
DTEND;TZID=America/Chicago:20270927T170000
DTSTAMP:20260414T185332
CREATED:20250114T013210Z
LAST-MODIFIED:20250114T013210Z
UID:10000229-1822060800-1822064400@www.woodburyfoundation.org
SUMMARY:WCF Marketing Committee
DESCRIPTION:
URL:https://www.woodburyfoundation.org/event/wcf-marketing-committee/2027-09-27/
ATTACH;FMTTYPE=image/png:https://www.woodburyfoundation.org/wp-content/uploads/2025/01/COMMITTEE-MEETING.png
END:VEVENT
BEGIN:VEVENT
DTSTART;TZID=America/Chicago:20271004T160000
DTEND;TZID=America/Chicago:20271004T170000
DTSTAMP:20260414T185332
CREATED:20250114T013020Z
LAST-MODIFIED:20250114T013020Z
UID:10000170-1822665600-1822669200@www.woodburyfoundation.org
SUMMARY:WCF Development Committee Meeting
DESCRIPTION:
URL:https://www.woodburyfoundation.org/event/wcf-development-committee-meeting/2027-10-04/
ATTACH;FMTTYPE=image/png:https://www.woodburyfoundation.org/wp-content/uploads/2025/01/COMMITTEE-MEETING.png
END:VEVENT
BEGIN:VEVENT
DTSTART;TZID=America/Chicago:20271012T130000
DTEND;TZID=America/Chicago:20271012T143000
DTSTAMP:20260414T185332
CREATED:20250114T012847Z
LAST-MODIFIED:20250114T012847Z
UID:10000110-1823346000-1823351400@www.woodburyfoundation.org
SUMMARY:WCF Finance & Audit Committee Meeting
DESCRIPTION:
URL:https://www.woodburyfoundation.org/event/wcf-finance-audit-committee-meeting/2027-10-12/
ATTACH;FMTTYPE=image/png:https://www.woodburyfoundation.org/wp-content/uploads/2025/01/COMMITTEE-MEETING.png
END:VEVENT
BEGIN:VEVENT
DTSTART;TZID=America/Chicago:20271025T160000
DTEND;TZID=America/Chicago:20271025T170000
DTSTAMP:20260414T185332
CREATED:20250114T013210Z
LAST-MODIFIED:20250114T013210Z
UID:10000230-1824480000-1824483600@www.woodburyfoundation.org
SUMMARY:WCF Marketing Committee
DESCRIPTION:
URL:https://www.woodburyfoundation.org/event/wcf-marketing-committee/2027-10-25/
ATTACH;FMTTYPE=image/png:https://www.woodburyfoundation.org/wp-content/uploads/2025/01/COMMITTEE-MEETING.png
END:VEVENT
BEGIN:VEVENT
DTSTART;TZID=America/Chicago:20271101T160000
DTEND;TZID=America/Chicago:20271101T170000
DTSTAMP:20260414T185332
CREATED:20250114T013020Z
LAST-MODIFIED:20250114T013020Z
UID:10000171-1825084800-1825088400@www.woodburyfoundation.org
SUMMARY:WCF Development Committee Meeting
DESCRIPTION:
URL:https://www.woodburyfoundation.org/event/wcf-development-committee-meeting/2027-11-01/
ATTACH;FMTTYPE=image/png:https://www.woodburyfoundation.org/wp-content/uploads/2025/01/COMMITTEE-MEETING.png
END:VEVENT
BEGIN:VEVENT
DTSTART;TZID=America/Chicago:20271109T130000
DTEND;TZID=America/Chicago:20271109T143000
DTSTAMP:20260414T185332
CREATED:20250114T012847Z
LAST-MODIFIED:20250114T012847Z
UID:10000111-1825765200-1825770600@www.woodburyfoundation.org
SUMMARY:WCF Finance & Audit Committee Meeting
DESCRIPTION:
URL:https://www.woodburyfoundation.org/event/wcf-finance-audit-committee-meeting/2027-11-09/
ATTACH;FMTTYPE=image/png:https://www.woodburyfoundation.org/wp-content/uploads/2025/01/COMMITTEE-MEETING.png
END:VEVENT
BEGIN:VEVENT
DTSTART;TZID=America/Chicago:20271122T160000
DTEND;TZID=America/Chicago:20271122T170000
DTSTAMP:20260414T185332
CREATED:20250114T013210Z
LAST-MODIFIED:20250114T013210Z
UID:10000231-1826899200-1826902800@www.woodburyfoundation.org
SUMMARY:WCF Marketing Committee
DESCRIPTION:
URL:https://www.woodburyfoundation.org/event/wcf-marketing-committee/2027-11-22/
ATTACH;FMTTYPE=image/png:https://www.woodburyfoundation.org/wp-content/uploads/2025/01/COMMITTEE-MEETING.png
END:VEVENT
BEGIN:VEVENT
DTSTART;TZID=America/Chicago:20271206T160000
DTEND;TZID=America/Chicago:20271206T170000
DTSTAMP:20260414T185332
CREATED:20250114T013020Z
LAST-MODIFIED:20250114T013020Z
UID:10000172-1828108800-1828112400@www.woodburyfoundation.org
SUMMARY:WCF Development Committee Meeting
DESCRIPTION:
URL:https://www.woodburyfoundation.org/event/wcf-development-committee-meeting/2027-12-06/
ATTACH;FMTTYPE=image/png:https://www.woodburyfoundation.org/wp-content/uploads/2025/01/COMMITTEE-MEETING.png
END:VEVENT
BEGIN:VEVENT
DTSTART;TZID=America/Chicago:20271214T130000
DTEND;TZID=America/Chicago:20271214T143000
DTSTAMP:20260414T185332
CREATED:20250114T012847Z
LAST-MODIFIED:20250114T012847Z
UID:10000112-1828789200-1828794600@www.woodburyfoundation.org
SUMMARY:WCF Finance & Audit Committee Meeting
DESCRIPTION:
URL:https://www.woodburyfoundation.org/event/wcf-finance-audit-committee-meeting/2027-12-14/
ATTACH;FMTTYPE=image/png:https://www.woodburyfoundation.org/wp-content/uploads/2025/01/COMMITTEE-MEETING.png
END:VEVENT
BEGIN:VEVENT
DTSTART;TZID=America/Chicago:20271227T160000
DTEND;TZID=America/Chicago:20271227T170000
DTSTAMP:20260414T185332
CREATED:20250114T013210Z
LAST-MODIFIED:20250114T013210Z
UID:10000232-1829923200-1829926800@www.woodburyfoundation.org
SUMMARY:WCF Marketing Committee
DESCRIPTION:
URL:https://www.woodburyfoundation.org/event/wcf-marketing-committee/2027-12-27/
ATTACH;FMTTYPE=image/png:https://www.woodburyfoundation.org/wp-content/uploads/2025/01/COMMITTEE-MEETING.png
END:VEVENT
BEGIN:VEVENT
DTSTART;TZID=America/Chicago:20280103T160000
DTEND;TZID=America/Chicago:20280103T170000
DTSTAMP:20260414T185332
CREATED:20250114T013020Z
LAST-MODIFIED:20250114T013020Z
UID:10000173-1830528000-1830531600@www.woodburyfoundation.org
SUMMARY:WCF Development Committee Meeting
DESCRIPTION:
URL:https://www.woodburyfoundation.org/event/wcf-development-committee-meeting/2028-01-03/
ATTACH;FMTTYPE=image/png:https://www.woodburyfoundation.org/wp-content/uploads/2025/01/COMMITTEE-MEETING.png
END:VEVENT
BEGIN:VEVENT
DTSTART;TZID=America/Chicago:20280111T130000
DTEND;TZID=America/Chicago:20280111T143000
DTSTAMP:20260414T185332
CREATED:20250114T012847Z
LAST-MODIFIED:20250114T012847Z
UID:10000113-1831208400-1831213800@www.woodburyfoundation.org
SUMMARY:WCF Finance & Audit Committee Meeting
DESCRIPTION:
URL:https://www.woodburyfoundation.org/event/wcf-finance-audit-committee-meeting/2028-01-11/
ATTACH;FMTTYPE=image/png:https://www.woodburyfoundation.org/wp-content/uploads/2025/01/COMMITTEE-MEETING.png
END:VEVENT
BEGIN:VEVENT
DTSTART;TZID=America/Chicago:20280124T160000
DTEND;TZID=America/Chicago:20280124T170000
DTSTAMP:20260414T185332
CREATED:20250114T013210Z
LAST-MODIFIED:20250114T013210Z
UID:10000233-1832342400-1832346000@www.woodburyfoundation.org
SUMMARY:WCF Marketing Committee
DESCRIPTION:
URL:https://www.woodburyfoundation.org/event/wcf-marketing-committee/2028-01-24/
ATTACH;FMTTYPE=image/png:https://www.woodburyfoundation.org/wp-content/uploads/2025/01/COMMITTEE-MEETING.png
END:VEVENT
BEGIN:VEVENT
DTSTART;TZID=America/Chicago:20280207T160000
DTEND;TZID=America/Chicago:20280207T170000
DTSTAMP:20260414T185332
CREATED:20250114T013020Z
LAST-MODIFIED:20250114T013020Z
UID:10000174-1833552000-1833555600@www.woodburyfoundation.org
SUMMARY:WCF Development Committee Meeting
DESCRIPTION:
URL:https://www.woodburyfoundation.org/event/wcf-development-committee-meeting/2028-02-07/
ATTACH;FMTTYPE=image/png:https://www.woodburyfoundation.org/wp-content/uploads/2025/01/COMMITTEE-MEETING.png
END:VEVENT
BEGIN:VEVENT
DTSTART;TZID=America/Chicago:20280208T130000
DTEND;TZID=America/Chicago:20280208T143000
DTSTAMP:20260414T185332
CREATED:20250114T012847Z
LAST-MODIFIED:20250114T012847Z
UID:10000114-1833627600-1833633000@www.woodburyfoundation.org
SUMMARY:WCF Finance & Audit Committee Meeting
DESCRIPTION:
URL:https://www.woodburyfoundation.org/event/wcf-finance-audit-committee-meeting/2028-02-08/
ATTACH;FMTTYPE=image/png:https://www.woodburyfoundation.org/wp-content/uploads/2025/01/COMMITTEE-MEETING.png
END:VEVENT
BEGIN:VEVENT
DTSTART;TZID=America/Chicago:20280228T160000
DTEND;TZID=America/Chicago:20280228T170000
DTSTAMP:20260414T185332
CREATED:20250114T013210Z
LAST-MODIFIED:20250114T013210Z
UID:10000234-1835366400-1835370000@www.woodburyfoundation.org
SUMMARY:WCF Marketing Committee
DESCRIPTION:
URL:https://www.woodburyfoundation.org/event/wcf-marketing-committee/2028-02-28/
ATTACH;FMTTYPE=image/png:https://www.woodburyfoundation.org/wp-content/uploads/2025/01/COMMITTEE-MEETING.png
END:VEVENT
BEGIN:VEVENT
DTSTART;TZID=America/Chicago:20280306T160000
DTEND;TZID=America/Chicago:20280306T170000
DTSTAMP:20260414T185332
CREATED:20250114T013020Z
LAST-MODIFIED:20250114T013020Z
UID:10000175-1835971200-1835974800@www.woodburyfoundation.org
SUMMARY:WCF Development Committee Meeting
DESCRIPTION:
URL:https://www.woodburyfoundation.org/event/wcf-development-committee-meeting/2028-03-06/
ATTACH;FMTTYPE=image/png:https://www.woodburyfoundation.org/wp-content/uploads/2025/01/COMMITTEE-MEETING.png
END:VEVENT
BEGIN:VEVENT
DTSTART;TZID=America/Chicago:20280314T130000
DTEND;TZID=America/Chicago:20280314T143000
DTSTAMP:20260414T185332
CREATED:20250114T012847Z
LAST-MODIFIED:20250114T012847Z
UID:10000115-1836651600-1836657000@www.woodburyfoundation.org
SUMMARY:WCF Finance & Audit Committee Meeting
DESCRIPTION:
URL:https://www.woodburyfoundation.org/event/wcf-finance-audit-committee-meeting/2028-03-14/
ATTACH;FMTTYPE=image/png:https://www.woodburyfoundation.org/wp-content/uploads/2025/01/COMMITTEE-MEETING.png
END:VEVENT
BEGIN:VEVENT
DTSTART;TZID=America/Chicago:20280327T160000
DTEND;TZID=America/Chicago:20280327T170000
DTSTAMP:20260414T185332
CREATED:20250114T013210Z
LAST-MODIFIED:20250114T013210Z
UID:10000235-1837785600-1837789200@www.woodburyfoundation.org
SUMMARY:WCF Marketing Committee
DESCRIPTION:
URL:https://www.woodburyfoundation.org/event/wcf-marketing-committee/2028-03-27/
ATTACH;FMTTYPE=image/png:https://www.woodburyfoundation.org/wp-content/uploads/2025/01/COMMITTEE-MEETING.png
END:VEVENT
END:VCALENDAR