BEGIN:VCALENDAR
VERSION:2.0
PRODID:-//Woodbury Foundation - ECPv6.15.17.1//NONSGML v1.0//EN
CALSCALE:GREGORIAN
METHOD:PUBLISH
X-ORIGINAL-URL:https://www.woodburyfoundation.org
X-WR-CALDESC:Events for Woodbury Foundation
REFRESH-INTERVAL;VALUE=DURATION:PT1H
X-Robots-Tag:noindex
X-PUBLISHED-TTL:PT1H
BEGIN:VTIMEZONE
TZID:America/Chicago
BEGIN:DAYLIGHT
TZOFFSETFROM:-0600
TZOFFSETTO:-0500
TZNAME:CDT
DTSTART:20230312T080000
END:DAYLIGHT
BEGIN:STANDARD
TZOFFSETFROM:-0500
TZOFFSETTO:-0600
TZNAME:CST
DTSTART:20231105T070000
END:STANDARD
BEGIN:DAYLIGHT
TZOFFSETFROM:-0600
TZOFFSETTO:-0500
TZNAME:CDT
DTSTART:20240310T080000
END:DAYLIGHT
BEGIN:STANDARD
TZOFFSETFROM:-0500
TZOFFSETTO:-0600
TZNAME:CST
DTSTART:20241103T070000
END:STANDARD
BEGIN:DAYLIGHT
TZOFFSETFROM:-0600
TZOFFSETTO:-0500
TZNAME:CDT
DTSTART:20250309T080000
END:DAYLIGHT
BEGIN:STANDARD
TZOFFSETFROM:-0500
TZOFFSETTO:-0600
TZNAME:CST
DTSTART:20251102T070000
END:STANDARD
END:VTIMEZONE
BEGIN:VEVENT
DTSTART;TZID=America/Chicago:20240806T160000
DTEND;TZID=America/Chicago:20240806T180000
DTSTAMP:20260417T050327
CREATED:20240710T014149Z
LAST-MODIFIED:20240710T014205Z
UID:10000068-1722960000-1722967200@www.woodburyfoundation.org
SUMMARY:Champions: Night to Unite
DESCRIPTION:More info coming soon.
URL:https://www.woodburyfoundation.org/event/champions-night-to-unite/
LOCATION:Green Mill Woodbury\, 6025 Hudson Rd\, Woodbury\, MN\, 55125
ATTACH;FMTTYPE=image/png:https://www.woodburyfoundation.org/wp-content/uploads/2024/07/Back-to-School-Night-Parent-Introduction-Educational-Presentation.png
ORGANIZER;CN="Woodbury Community Foundation":MAILTO:wcf@WoodburyFoundation.org
END:VEVENT
END:VCALENDAR