BEGIN:VCALENDAR
VERSION:2.0
PRODID:-//Woodbury Foundation - ECPv6.15.17.1//NONSGML v1.0//EN
CALSCALE:GREGORIAN
METHOD:PUBLISH
X-WR-CALNAME:Woodbury Foundation
X-ORIGINAL-URL:https://www.woodburyfoundation.org
X-WR-CALDESC:Events for Woodbury Foundation
REFRESH-INTERVAL;VALUE=DURATION:PT1H
X-Robots-Tag:noindex
X-PUBLISHED-TTL:PT1H
BEGIN:VTIMEZONE
TZID:America/Chicago
BEGIN:DAYLIGHT
TZOFFSETFROM:-0600
TZOFFSETTO:-0500
TZNAME:CDT
DTSTART:20220313T080000
END:DAYLIGHT
BEGIN:STANDARD
TZOFFSETFROM:-0500
TZOFFSETTO:-0600
TZNAME:CST
DTSTART:20221106T070000
END:STANDARD
BEGIN:DAYLIGHT
TZOFFSETFROM:-0600
TZOFFSETTO:-0500
TZNAME:CDT
DTSTART:20230312T080000
END:DAYLIGHT
BEGIN:STANDARD
TZOFFSETFROM:-0500
TZOFFSETTO:-0600
TZNAME:CST
DTSTART:20231105T070000
END:STANDARD
BEGIN:DAYLIGHT
TZOFFSETFROM:-0600
TZOFFSETTO:-0500
TZNAME:CDT
DTSTART:20240310T080000
END:DAYLIGHT
BEGIN:STANDARD
TZOFFSETFROM:-0500
TZOFFSETTO:-0600
TZNAME:CST
DTSTART:20241103T070000
END:STANDARD
BEGIN:DAYLIGHT
TZOFFSETFROM:-0600
TZOFFSETTO:-0500
TZNAME:CDT
DTSTART:20250309T080000
END:DAYLIGHT
BEGIN:STANDARD
TZOFFSETFROM:-0500
TZOFFSETTO:-0600
TZNAME:CST
DTSTART:20251102T070000
END:STANDARD
BEGIN:DAYLIGHT
TZOFFSETFROM:-0600
TZOFFSETTO:-0500
TZNAME:CDT
DTSTART:20260308T080000
END:DAYLIGHT
BEGIN:STANDARD
TZOFFSETFROM:-0500
TZOFFSETTO:-0600
TZNAME:CST
DTSTART:20261101T070000
END:STANDARD
END:VTIMEZONE
BEGIN:VEVENT
DTSTART;TZID=America/Chicago:20250306T140000
DTEND;TZID=America/Chicago:20250306T160000
DTSTAMP:20260414T191033
CREATED:20250114T010639Z
LAST-MODIFIED:20250114T011800Z
UID:10000075-1741269600-1741276800@www.woodburyfoundation.org
SUMMARY:Non Profit Roundtable
DESCRIPTION:Featured Speaker: \n Kalsey Beach from Do Good Events\n\n\n\n\nA dynamic leader\, efficient organizer\, effective communicator and creative marketer. I am continually driven by the impact events make\, self-motivation\, a dedicated work ethic and a passion to be a better person and business professional. My strengths and experiences have lead me to a career in the events industry. \nSpecialties:\n– Event planning and execution\n– Event Fundraising including consulting on how to raise more money at fundraising events\n– How to elevate your giving moment\n– Creating and implementing event marketing strategies\n– Building and developing relationships\n– Using events to elevate businesses\, relationships and the community.\n– Maintaining client loyalty & customer satisfaction
URL:https://www.woodburyfoundation.org/event/non-profit-roundtable-4/
LOCATION:Jerry’s Foods
ATTACH;FMTTYPE=image/jpeg:https://www.woodburyfoundation.org/wp-content/uploads/2025/01/434229751_820479356773703_4444907492957079783_n.jpg
END:VEVENT
BEGIN:VEVENT
DTSTART;TZID=America/Chicago:20241115T140000
DTEND;TZID=America/Chicago:20241115T153000
DTSTAMP:20260414T191033
CREATED:20241029T163152Z
LAST-MODIFIED:20241029T163435Z
UID:10000072-1731679200-1731684600@www.woodburyfoundation.org
SUMMARY:Non-Profit Roundtable
DESCRIPTION:Nonprofit Roundtable set for November 15th\nThe Woodbury Community Foundation is excited to welcome you back for another session of our Nonprofit Roundtable Discussions! We’ll be hearing from Kris Kewitsch\, executive director of Charities Review Council. \nFriday\, November 15th | 2-4 p.m.\nJerry’s Community Room | 7760 Hargis Parkway \nAll nonprofit organizations that serve Woodbury are invited to attend\, whether you have been present at the previous discussions or not. \nPlease RSVP by using the link below if you are able to attend\, or forward this invitation to another representative of your organization! \nReserve your seat today! \n \nAbout the SpeakerChristy has served in leadership roles at a variety of nonprofits for nearly 20 years. Specializing in planned giving strategy\, she helps nonprofits envision a more sustainable future and donors imagine how they can align their values with their finances through thoughtful legacy planning. \nThrough this work\, she’s inspired donors to commit hundreds of millions of dollars to loved ones and their favorite causes. \nChristy’s undergraduate studies focused on psychology and communication\, and she also holds a Master of Arts in Higher Education. She received a Certificate in Fund Raising Management through Indiana University Lilly Family School of Philanthropy. She is a Fellow in Charitable Estate Planning (FCEP). With this varied background\, Christy naturally navigates between the analytical and relational sides of planned giving. \nChristy loves biking–she once even cycled across the country for charity–and leads historical food tours in her hometown and at a local winery. She lives in St. Paul\, Minnesota\, with her husband; their dog\, Lucy; and 24 thriving houseplants. \n 
URL:https://www.woodburyfoundation.org/event/non-profit-roundtable-3/
LOCATION:Jerry’s Foods
ATTACH;FMTTYPE=image/jpeg:https://www.woodburyfoundation.org/wp-content/uploads/2024/10/IMG_5763.jpg
END:VEVENT
BEGIN:VEVENT
DTSTART;TZID=America/Chicago:20240321T140000
DTEND;TZID=America/Chicago:20240321T160000
DTSTAMP:20260414T191033
CREATED:20240213T222023Z
LAST-MODIFIED:20240213T222023Z
UID:10000050-1711029600-1711036800@www.woodburyfoundation.org
SUMMARY:Non-Profit Roundtable Meeting
DESCRIPTION:Nonprofit Roundtable: Volunteer Recruitment & Retention \nJoin us for the next session of our Nonprofit Roundtable series on Thursday\, March 21. Executive Director Tracey Nielson of Hands On Twin Cities will be speaking about volunteer recruitment and retention. The event will take place at 2 p.m. in the upper level Community Room of Jerry’s\, located at 7760 Hargis Parkway in Woodbury.  Admission is free and open to all nonprofits serving the Woodbury community! \nPlease register at the URL Below.
URL:https://www.woodburyfoundation.org/event/non-profit-roundtable-meeting-2/
LOCATION:Jerry’s Foods
ATTACH;FMTTYPE=image/png:https://www.woodburyfoundation.org/wp-content/uploads/2024/02/hands-on-TC.png
END:VEVENT
BEGIN:VEVENT
DTSTART;TZID=America/Chicago:20231130T140000
DTEND;TZID=America/Chicago:20231130T160000
DTSTAMP:20260414T191033
CREATED:20231129T194207Z
LAST-MODIFIED:20231130T174500Z
UID:10000033-1701352800-1701360000@www.woodburyfoundation.org
SUMMARY:Non-Profit Roundtable
DESCRIPTION:We are excited to welcome back the nonprofits in our community for the third session of our Nonprofit Roundtable! Join us at the community room at Jerry’s Foods from 2-4 p.m. on Thursday\, Nov. 30\, to hear from Christy Boysen of Apex Legacy Consultants about fundraising for nonprofits.\n\n\nWe’ll also recap our last session and talk about next steps.\n\n\nAll nonprofits that serve Woodbury are invited to attend this event\, so please forward this invitation along to your contacts!
URL:https://www.woodburyfoundation.org/event/non-profit-roundtable/
LOCATION:Jerry’s Foods
ATTACH;FMTTYPE=image/jpeg:https://www.woodburyfoundation.org/wp-content/uploads/2023/11/402067730_740742761414030_2038315526091313911_n.jpeg
ORGANIZER;CN="Woodbury Community Foundation":MAILTO:wcf@WoodburyFoundation.org
END:VEVENT
END:VCALENDAR