BEGIN:VCALENDAR
VERSION:2.0
PRODID:-//Woodbury Foundation - ECPv6.15.17.1//NONSGML v1.0//EN
CALSCALE:GREGORIAN
METHOD:PUBLISH
X-ORIGINAL-URL:https://www.woodburyfoundation.org
X-WR-CALDESC:Events for Woodbury Foundation
REFRESH-INTERVAL;VALUE=DURATION:PT1H
X-Robots-Tag:noindex
X-PUBLISHED-TTL:PT1H
BEGIN:VTIMEZONE
TZID:America/Chicago
BEGIN:DAYLIGHT
TZOFFSETFROM:-0600
TZOFFSETTO:-0500
TZNAME:CDT
DTSTART:20220313T080000
END:DAYLIGHT
BEGIN:STANDARD
TZOFFSETFROM:-0500
TZOFFSETTO:-0600
TZNAME:CST
DTSTART:20221106T070000
END:STANDARD
BEGIN:DAYLIGHT
TZOFFSETFROM:-0600
TZOFFSETTO:-0500
TZNAME:CDT
DTSTART:20230312T080000
END:DAYLIGHT
BEGIN:STANDARD
TZOFFSETFROM:-0500
TZOFFSETTO:-0600
TZNAME:CST
DTSTART:20231105T070000
END:STANDARD
BEGIN:DAYLIGHT
TZOFFSETFROM:-0600
TZOFFSETTO:-0500
TZNAME:CDT
DTSTART:20240310T080000
END:DAYLIGHT
BEGIN:STANDARD
TZOFFSETFROM:-0500
TZOFFSETTO:-0600
TZNAME:CST
DTSTART:20241103T070000
END:STANDARD
BEGIN:DAYLIGHT
TZOFFSETFROM:-0600
TZOFFSETTO:-0500
TZNAME:CDT
DTSTART:20250309T080000
END:DAYLIGHT
BEGIN:STANDARD
TZOFFSETFROM:-0500
TZOFFSETTO:-0600
TZNAME:CST
DTSTART:20251102T070000
END:STANDARD
BEGIN:DAYLIGHT
TZOFFSETFROM:-0600
TZOFFSETTO:-0500
TZNAME:CDT
DTSTART:20260308T080000
END:DAYLIGHT
BEGIN:STANDARD
TZOFFSETFROM:-0500
TZOFFSETTO:-0600
TZNAME:CST
DTSTART:20261101T070000
END:STANDARD
END:VTIMEZONE
BEGIN:VEVENT
DTSTART;TZID=America/Chicago:20251011T150000
DTEND;TZID=America/Chicago:20251011T170000
DTSTAMP:20260416T074724
CREATED:20251006T145838Z
LAST-MODIFIED:20251006T145901Z
UID:10000275-1760194800-1760202000@www.woodburyfoundation.org
SUMMARY:Halloween Hoopla
DESCRIPTION:WCF will be on hand for the City of Woodbury’s Halloween Hoopla Event.
URL:https://www.woodburyfoundation.org/event/halloween-hoopla/
LOCATION:Ojibway Park\, 2695 Ojibway Dr\, Woodbury\, Woodbury\, 55125
ATTACH;FMTTYPE=image/png:https://www.woodburyfoundation.org/wp-content/uploads/2025/10/community-event-1.png
END:VEVENT
BEGIN:VEVENT
DTSTART;VALUE=DATE:20230930
DTEND;VALUE=DATE:20231001
DTSTAMP:20260416T074724
CREATED:20230427T001026Z
LAST-MODIFIED:20230522T150325Z
UID:10000009-1696032000-1696118399@www.woodburyfoundation.org
SUMMARY:One Woodbury
DESCRIPTION:Save the date! More information coming soon.
URL:https://www.woodburyfoundation.org/event/one-woodbury/
LOCATION:Ojibway Park\, 2695 Ojibway Dr\, Woodbury\, Woodbury\, 55125
ATTACH;FMTTYPE=image/jpeg:https://www.woodburyfoundation.org/wp-content/uploads/2023/04/OneWoodbury_Logo_Preview.jpg
END:VEVENT
BEGIN:VEVENT
DTSTART;VALUE=DATE:20230819
DTEND;VALUE=DATE:20230820
DTSTAMP:20260416T074724
CREATED:20230801T004524Z
LAST-MODIFIED:20230801T025222Z
UID:10000022-1692403200-1692489599@www.woodburyfoundation.org
SUMMARY:Bike to Woodbury Days on Aug 19
DESCRIPTION:Bike to Woodbury Days –  Saturday\, Aug 19 – organized by Woodbury Thrives. Park at Royal Oaks and bike to Ojibway Park\n  \n\nMore on the event:\nJoin us at Woodbury Days!\n\n\nAugust 18 – 20\, 2023\n\n\n\nWoodbury Days is a 3-Day\, Family-Friendly Fun celebration to bring together and celebrate our great Woodbury community. It is packed with great entertainment\, delicious food\, and many other wonderful activities! Woodbury Days 2022 was attended by about 25\,000 people with approximately 200 businesses represented. Planning for 2023 is well underway and we’d love for you or your business to join us by participating in the event or helping with the planning!
URL:https://www.woodburyfoundation.org/event/bike-to-woodbury-days-on-aug-19/
LOCATION:Ojibway Park\, 2695 Ojibway Dr\, Woodbury\, Woodbury\, 55125
ATTACH;FMTTYPE=image/png:https://www.woodburyfoundation.org/wp-content/uploads/2023/07/bike-tp-woodbury-days.png
END:VEVENT
BEGIN:VEVENT
DTSTART;TZID=America/Chicago:20230617T110000
DTEND;TZID=America/Chicago:20230617T150000
DTSTAMP:20260416T074724
CREATED:20230427T123113Z
LAST-MODIFIED:20230427T132204Z
UID:10000011-1686999600-1687014000@www.woodburyfoundation.org
SUMMARY:Woodbury Juneteenth Celebration
DESCRIPTION:
URL:https://www.woodburyfoundation.org/event/woodbury-juneteenth-celebration/
LOCATION:Ojibway Park\, 2695 Ojibway Dr\, Woodbury\, Woodbury\, 55125
ATTACH;FMTTYPE=image/jpeg:https://www.woodburyfoundation.org/wp-content/uploads/2023/04/Juneteenth-2023-save-the-date-1.jpeg
END:VEVENT
BEGIN:VEVENT
DTSTART;TZID=America/Chicago:20230429T083000
DTEND;TZID=America/Chicago:20230429T103000
DTSTAMP:20260416T074724
CREATED:20230427T000210Z
LAST-MODIFIED:20230427T000210Z
UID:10000007-1682757000-1682764200@www.woodburyfoundation.org
SUMMARY:Ojibway Park Clean-Up
DESCRIPTION:Ojibway Park Cleanup Coming\nThis Saturday\, April 29\nThe Ojibway Park Cleanup is just days away – this Saturday\, April 29 from 8:30 to 10:30 a.m.  \nGrab your family\, neighbors\, church group\, scout group\, sports team\, card club and join us whether you can be there for the entire time or just 20 or 30 minutes. Many hands make for light work. \nWe’ll have snacks and refreshments. Dress for walking “off the trails”. Wear closed-toe shoes. Bring gardening gloves if you have them. We’ll supply the garbage bags. \nEmail simi.patnaik@woodburythrives.org for more information. No registration required.
URL:https://www.woodburyfoundation.org/event/ojibway-park-clean-up/
LOCATION:Ojibway Park\, 2695 Ojibway Dr\, Woodbury\, Woodbury\, 55125
ATTACH;FMTTYPE=image/png:https://www.woodburyfoundation.org/wp-content/uploads/2023/04/unnamed-1.png
END:VEVENT
END:VCALENDAR